﻿BEGIN:VCALENDAR
VERSION:2.0
PRODID:-//wp-events-plugin.com//6.6.3//EN
TZID:Europe/Berlin
X-WR-TIMEZONE:Europe/Berlin
BEGIN:VEVENT
UID:5@inselkonzerte-chiemsee.de
DTSTART;TZID=Europe/Berlin:20250706T150000
DTEND;TZID=Europe/Berlin:20250706T150000
DTSTAMP:20250704T072637Z
URL:https://inselkonzerte-chiemsee.de/events/konzert-6/
SUMMARY:Konzert
DESCRIPTION:Programmänderung! \nWerke von Bach\, Beethoven\, Schumann & Pr
 okofiev
END:VEVENT
BEGIN:VTIMEZONE
TZID:Europe/Berlin
X-LIC-LOCATION:Europe/Berlin
BEGIN:DAYLIGHT
DTSTART:20250330T030000
TZOFFSETFROM:+0100
TZOFFSETTO:+0200
TZNAME:CEST
END:DAYLIGHT
END:VTIMEZONE
END:VCALENDAR